{
 "currentVersion": 11.5,
 "serviceDescription": "Raster/Ortofoto_2018",
 "serviceItemId": "86a1df7f2efa4d4baa93944ab3f2fc33",
 "name": "Raster/Ortofoto_2018",
 "description": "",
 "extent": {
  "xmin": 716691.7094573731,
  "ymin": 7530546.185741808,
  "xmax": 738844.6094573732,
  "ymax": 7546376.985741808,
  "spatialReference": {
   "wkid": 31981,
   "latestWkid": 31981
  }
 },
 "initialExtent": {
  "xmin": 716691.7094573731,
  "ymin": 7530546.185741808,
  "xmax": 738844.6094573732,
  "ymax": 7546376.985741808,
  "spatialReference": {
   "wkid": 31981,
   "latestWkid": 31981
  }
 },
 "fullExtent": {
  "xmin": 716691.7094573731,
  "ymin": 7530546.185741808,
  "xmax": 738844.6094573732,
  "ymax": 7546376.985741808,
  "spatialReference": {
   "wkid": 31981,
   "latestWkid": 31981
  }
 },
 "sortableFields": "",
 "bandCount": 3,
 "pixelType": "U8",
 "minValues": [
  66,
  84,
  65
 ],
 "maxValues": [
  255,
  255,
  255
 ],
 "meanValues": [
  197.54834054834,
  193.32602813853,
  178.77931096681
 ],
 "stdvValues": [
  51.312634700727,
  53.843495154416,
  66.16050430052
 ],
 "serviceProperties": "Center<\/MosaicMethod>First<\/MosaicOperator>true<\/SortAscending><\/LockImageID><\/TileOrderField>0<\/TileOrderBase>0,000000<\/AvgImageSpacingX>0,000000<\/AvgImageSpacingY>0.0<\/ViewPointX>0.0<\/ViewPointY>0.0<\/ViewPointDefShiftX>0.0<\/ViewPointDefShiftY>None<\/CompressionMethod>75<\/CompressionQuality>0,010000<\/CompressionTolerance>Bilinear<\/SamplingMethod><\/ImageServiceProperties><\/ImageServer>",
 "allowedFields": "",
 "hasMultidimensions": false,
 "pixelSizeX": 0.1000000000000001,
 "pixelSizeY": 0.09999999999999883,
 "meanPixelSize": 0.09999999999999946,
 "datasetFormat": "TIFF",
 "uncompressedSize": 105209438796,
 "blockWidth": 256,
 "blockHeight": 256,
 "compressionType": "YCbCr JPEG",
 "bandNames": [
  "Band_1",
  "Band_2",
  "Band_3"
 ],
 "allowCopy": true,
 "allowAnalysis": true,
 "itemAccess": false,
 "inspectionCapabilities": "",
 "minPixelSize": 0.07449063616198556,
 "maxPixelSize": 76.27841142987322,
 "copyrightText": "",
 "serviceDataType": "esriImageServiceDataTypeRGB",
 "serviceSourceType": "esriImageServiceSourceTypeDataset",
 "objectIdField": "",
 "fields": [],
 "capabilities": "Image,Metadata,Mensuration,TileMap",
 "defaultMosaicMethod": "Center",
 "allowedMosaicMethods": "",
 "sortField": "",
 "sortValue": null,
 "sortAscending": true,
 "mosaicOperator": "First",
 "defaultCompressionQuality": 75,
 "defaultResamplingMethod": "Bilinear",
 "maxImageHeight": 4100,
 "maxImageWidth": 15000,
 "singleFusedMapCache": true,
 "tileInfo": {
  "rows": 256,
  "cols": 256,
  "dpi": 96,
  "format": "JPEG",
  "compressionQuality": 75,
  "origin": {
   "x": -9497963.942936342,
   "y": 1.9997963942936342E7
  },
  "spatialReference": {
   "wkid": 31981,
   "latestWkid": 31981
  },
  "lods": [
   {
    "level": 0,
    "resolution": 78109.09330419017,
    "scale": 2.952154707559943E8
   },
   {
    "level": 1,
    "resolution": 39054.54665209509,
    "scale": 1.4760773537799716E8
   },
   {
    "level": 2,
    "resolution": 19527.273326047543,
    "scale": 7.380386768899858E7
   },
   {
    "level": 3,
    "resolution": 9763.636663023772,
    "scale": 3.690193384449929E7
   },
   {
    "level": 4,
    "resolution": 4881.818331511886,
    "scale": 1.8450966922249645E7
   },
   {
    "level": 5,
    "resolution": 2440.909165755943,
    "scale": 9225483.461124822
   },
   {
    "level": 6,
    "resolution": 1220.4545828779715,
    "scale": 4612741.730562411
   },
   {
    "level": 7,
    "resolution": 610.2272914389857,
    "scale": 2306370.8652812056
   },
   {
    "level": 8,
    "resolution": 305.11364571949287,
    "scale": 1153185.4326406028
   },
   {
    "level": 9,
    "resolution": 152.55682285974643,
    "scale": 576592.7163203014
   },
   {
    "level": 10,
    "resolution": 76.27841142987322,
    "scale": 288296.3581601507
   },
   {
    "level": 11,
    "resolution": 38.13920571493661,
    "scale": 144148.17908007535
   },
   {
    "level": 12,
    "resolution": 19.069602857468304,
    "scale": 72074.08954003768
   },
   {
    "level": 13,
    "resolution": 9.534801428734152,
    "scale": 36037.04477001884
   },
   {
    "level": 14,
    "resolution": 4.767400714367076,
    "scale": 18018.52238500942
   },
   {
    "level": 15,
    "resolution": 2.383700357183538,
    "scale": 9009.26119250471
   },
   {
    "level": 16,
    "resolution": 1.191850178591769,
    "scale": 4504.630596252355
   },
   {
    "level": 17,
    "resolution": 0.5959250892958845,
    "scale": 2252.3152981261774
   },
   {
    "level": 18,
    "resolution": 0.29796254464794225,
    "scale": 1126.1576490630887
   },
   {
    "level": 19,
    "resolution": 0.14898127232397113,
    "scale": 563.0788245315443
   },
   {
    "level": 20,
    "resolution": 0.07449063616198556,
    "scale": 281.53941226577217
   },
   {
    "level": 21,
    "resolution": 0.03724531808099278,
    "scale": 140.76970613288609
   },
   {
    "level": 22,
    "resolution": 0.01862265904049639,
    "scale": 70.38485306644304
   },
   {
    "level": 23,
    "resolution": 0.009311329520248195,
    "scale": 35.19242653322152
   }
  ]
 },
 "storageInfo": {
  "storageFormat": "esriMapCacheStorageModeCompactV2",
  "packetSize": 128
 },
 "cacheType": "Map",
 "allowRasterFunction": true,
 "rasterFunctionInfos": [
  {
   "name": "None",
   "description": "",
   "help": ""
  }
 ],
 "rasterTypeInfos": [
  {
   "name": "Raster Dataset",
   "description": "Supports all ArcGIS Raster Datasets",
   "help": ""
  }
 ],
 "mensurationCapabilities": "Basic",
 "hasHistograms": false,
 "hasColormap": false,
 "hasRasterAttributeTable": false,
 "minScale": 288296.3581601507,
 "maxScale": 281.53941226577217,
 "minLOD": 10,
 "maxLOD": 20,
 "exportTilesAllowed": false,
 "supportsStatistics": false,
 "supportsAdvancedQueries": false,
 "editFieldsInfo": null,
 "ownershipBasedAccessControlForRasters": null,
 "allowComputeTiePoints": false,
 "useStandardizedQueries": true,
 "advancedQueryCapabilities": {
  "useStandardizedQueries": true,
  "supportsStatistics": false,
  "supportsOrderBy": false,
  "supportsDistinct": false,
  "supportsPagination": false
 },
 "spatialReference": {
  "wkid": 31981,
  "latestWkid": 31981
 }
}
